BEGIN:VCALENDAR
VERSION:2.0
PRODID:-//Festi Jazz Mont Tremblant - ECPv6.15.20//NONSGML v1.0//EN
CALSCALE:GREGORIAN
METHOD:PUBLISH
X-WR-CALNAME:Festi Jazz Mont Tremblant
X-ORIGINAL-URL:https://jazztremblant.com
X-WR-CALDESC:Évènements pour Festi Jazz Mont Tremblant
REFRESH-INTERVAL;VALUE=DURATION:PT1H
X-Robots-Tag:noindex
X-PUBLISHED-TTL:PT1H
BEGIN:VTIMEZONE
TZID:America/Toronto
BEGIN:DAYLIGHT
TZOFFSETFROM:-0500
TZOFFSETTO:-0400
TZNAME:EDT
DTSTART:20240310T070000
END:DAYLIGHT
BEGIN:STANDARD
TZOFFSETFROM:-0400
TZOFFSETTO:-0500
TZNAME:EST
DTSTART:20241103T060000
END:STANDARD
BEGIN:DAYLIGHT
TZOFFSETFROM:-0500
TZOFFSETTO:-0400
TZNAME:EDT
DTSTART:20250309T070000
END:DAYLIGHT
BEGIN:STANDARD
TZOFFSETFROM:-0400
TZOFFSETTO:-0500
TZNAME:EST
DTSTART:20251102T060000
END:STANDARD
BEGIN:DAYLIGHT
TZOFFSETFROM:-0500
TZOFFSETTO:-0400
TZNAME:EDT
DTSTART:20260308T070000
END:DAYLIGHT
BEGIN:STANDARD
TZOFFSETFROM:-0400
TZOFFSETTO:-0500
TZNAME:EST
DTSTART:20261101T060000
END:STANDARD
END:VTIMEZONE
BEGIN:VEVENT
DTSTART;TZID=America/Toronto:20250803T210000
DTEND;TZID=America/Toronto:20250803T223000
DTSTAMP:20260424T165353
CREATED:20250610T123035Z
LAST-MODIFIED:20250610T154744Z
UID:10000266-1754254800-1754260200@jazztremblant.com
SUMMARY:DONALD DOGBO - Concert de clôture - Série Jazz sous les étoiles DESJARDINS
DESCRIPTION:CONCERT DE CLÔTURE\n\nDonald Dogbo : batterie et voix\n\nAlex Francoeur : saxophone\n\nRémi Cormier : trompette\n\nElli Miller-Maboungou : percussions\n\nChristian Obam : basse\n\nWilly Javier Soto Barreto : piano
URL:https://jazztremblant.com/evenement/donald-dogbo/
LOCATION:Grande Scène\, 885 rue de Saint-Jovite\, Mont-Tremblant\, Québec\, J8E 3J8\, Canada
CATEGORIES:Série Jazz sous les étoiles Desjardins
ATTACH;FMTTYPE=image/png:https://jazztremblant.com/wp-content/uploads/2025/06/Donald-Dogbo_dimanche-3-aout-21h-credit-Marion-Chuniaud-4.png
END:VEVENT
BEGIN:VEVENT
DTSTART;TZID=America/Toronto:20250803T190000
DTEND;TZID=America/Toronto:20250803T201500
DTSTAMP:20260424T165353
CREATED:20250610T123048Z
LAST-MODIFIED:20250610T124907Z
UID:10000257-1754247600-1754252100@jazztremblant.com
SUMMARY:ISABELLA HALLIA QUARTET - Série Jazz Extra PROMUTUEL ASSURANCE
DESCRIPTION:Isabella Hallia : voix\n\n\n\n\nYûr Yesli : guitare\n\nAlex Le Blanc : contrebasse\n\nBaptiste Lejeune : batterie
URL:https://jazztremblant.com/evenement/isabella-hallia-quartet/
LOCATION:Grande Scène\, 885 rue de Saint-Jovite\, Mont-Tremblant\, Québec\, J8E 3J8\, Canada
CATEGORIES:Série Jazz Extra Promutuel Assurance
ATTACH;FMTTYPE=image/png:https://jazztremblant.com/wp-content/uploads/2025/06/Isabella-Hallia_dimanche-3-aout-19h-2.png
END:VEVENT
BEGIN:VEVENT
DTSTART;TZID=America/Toronto:20250803T150000
DTEND;TZID=America/Toronto:20250803T163000
DTSTAMP:20260424T165353
CREATED:20250610T123031Z
LAST-MODIFIED:20250609T132013Z
UID:10000283-1754233200-1754238600@jazztremblant.com
SUMMARY:TRIO BRASIL
DESCRIPTION:Raoul Cyr : basse\n\nRichard Leduc : saxophone\n\nBernard Ouellette : batterie
URL:https://jazztremblant.com/evenement/trio-brasil/
LOCATION:Scène Jazz Lounge\, 885 Rue de St-Jovite\, Mont-Tremblant\, Québec\, J8E 3J8\, Canada
CATEGORIES:Série Jazz Lounge
ATTACH;FMTTYPE=image/jpeg:https://jazztremblant.com/wp-content/uploads/2025/06/Trio-Brasil_dimanche-3-aout-15h-e1749474223919.jpeg
END:VEVENT
BEGIN:VEVENT
DTSTART;TZID=America/Toronto:20250803T130000
DTEND;TZID=America/Toronto:20250803T220000
DTSTAMP:20260424T165354
CREATED:20250610T123031Z
LAST-MODIFIED:20250713T163302Z
UID:10000275-1754226000-1754258400@jazztremblant.com
SUMMARY:SÉRIE JAZZ CLUB
DESCRIPTION:13 h – Place de la Gare (vieux village)  \nROBERT MÉNARD – FRÉDÉRIC DARVEAU \nRobert Ménard : guitare \nFrédéric Darveau : contrebasse \n  \n17 h 30 – Pizza & Cie \nJUTEAU – LACHAPELLE & INVITÉS \nAlain Juteau : guitare \nNormand Lachapelle : basse \n+ invités \n  \n19 h – Hôtel Mont-Tremblant  \nANNIE POULAIN TRIO \nAnnie Poulain : voix \nNormand Guilbeault : contrebasse \nSylvain Provost : guitare \n 
URL:https://jazztremblant.com/evenement/serie-jazz-club-5/
CATEGORIES:Série Jazz Club
ATTACH;FMTTYPE=image/jpeg:https://jazztremblant.com/wp-content/uploads/2023/04/serie-jazz-club-e1689299436113.jpg
END:VEVENT
BEGIN:VEVENT
DTSTART;TZID=America/Toronto:20250803T130000
DTEND;TZID=America/Toronto:20250803T141500
DTSTAMP:20260424T165354
CREATED:20250610T123042Z
LAST-MODIFIED:20250608T003242Z
UID:10000232-1754226000-1754230500@jazztremblant.com
SUMMARY:ÉLIZABETH CORMIER QUARTET
DESCRIPTION:Élizabeth Cormier : voix\n\nThomas Andersen : piano\n\nJuno Hamilton : contrebasse\n\nRyan Bennett : batterie
URL:https://jazztremblant.com/evenement/elizabeth-cormier-quartet/
LOCATION:Scène Jazz Lounge\, 885 Rue de St-Jovite\, Mont-Tremblant\, Québec\, J8E 3J8\, Canada
CATEGORIES:Série Relève Jazz
ATTACH;FMTTYPE=image/jpeg:https://jazztremblant.com/wp-content/uploads/2025/06/Elizabeth-Cormier-Quartet_dimanche-3-aout_13h-e1748967357813.jpg
END:VEVENT
BEGIN:VEVENT
DTSTART;TZID=America/Toronto:20250803T110000
DTEND;TZID=America/Toronto:20250803T120000
DTSTAMP:20260424T165354
CREATED:20250610T123048Z
LAST-MODIFIED:20250610T155806Z
UID:10000245-1754218800-1754222400@jazztremblant.com
SUMMARY:JAMES GELFAND - Classe de maitre
DESCRIPTION:Discussion avec James Gelfand autour de son processus créatif et de son instrument\, le piano.
URL:https://jazztremblant.com/evenement/james-gelfand/
LOCATION:Scène Jazz Lounge\, 885 Rue de St-Jovite\, Mont-Tremblant\, Québec\, J8E 3J8\, Canada
CATEGORIES:Classe de maître
ATTACH;FMTTYPE=image/png:https://jazztremblant.com/wp-content/uploads/2025/06/James-Gelfand_dimanche-3-aout-11h-e1749042417325.png
END:VEVENT
BEGIN:VEVENT
DTSTART;TZID=America/Toronto:20250802T210000
DTEND;TZID=America/Toronto:20250802T223000
DTSTAMP:20260424T165354
CREATED:20250610T123053Z
LAST-MODIFIED:20250610T154933Z
UID:10000265-1754168400-1754173800@jazztremblant.com
SUMMARY:MARIANNE TRUDEL TRIO - Grand événement 18e édition - Série Jazz sous les étoiles DESJARDINS
DESCRIPTION:Marianne Trudel : piano\n\nRémi-Jean Leblanc : contrebasse\n\nLouis-Vincent Hamel : batterie
URL:https://jazztremblant.com/evenement/marianne-trudel-trio/
LOCATION:Grande Scène\, 885 rue de Saint-Jovite\, Mont-Tremblant\, Québec\, J8E 3J8\, Canada
CATEGORIES:Série Jazz sous les étoiles Desjardins
ATTACH;FMTTYPE=image/jpeg:https://jazztremblant.com/wp-content/uploads/2025/06/Marianne-Trudel-Trio_samedi-2-aout-21h_credit-Vilnu_Suslavicius-scaled-e1749474141616.jpg
END:VEVENT
BEGIN:VEVENT
DTSTART;TZID=America/Toronto:20250802T190000
DTEND;TZID=America/Toronto:20250802T201500
DTSTAMP:20260424T165354
CREATED:20250610T123019Z
LAST-MODIFIED:20250610T155028Z
UID:10000256-1754161200-1754165700@jazztremblant.com
SUMMARY:JAMES GELFAND TRIO - Série Jazz Extra PROMUTUEL ASSURANCE
DESCRIPTION:James Gelfand : piano\n\nNormand Lachapelle : basse\n\nMagella Cormier : batterie
URL:https://jazztremblant.com/evenement/james-gelfand-trio/
LOCATION:Grande Scène\, 885 rue de Saint-Jovite\, Mont-Tremblant\, Québec\, J8E 3J8\, Canada
CATEGORIES:Série Jazz Extra Promutuel Assurance
ATTACH;FMTTYPE=image/png:https://jazztremblant.com/wp-content/uploads/2025/06/James-Gelfand-dimanche-3-aout-11h-3-1.png
END:VEVENT
BEGIN:VEVENT
DTSTART;TZID=America/Toronto:20250802T150000
DTEND;TZID=America/Toronto:20250802T163000
DTSTAMP:20260424T165354
CREATED:20250610T123037Z
LAST-MODIFIED:20250609T131826Z
UID:10000282-1754146800-1754152200@jazztremblant.com
SUMMARY:MICHEL MORISSETTE QUARTET
DESCRIPTION:Michel Morissette : guitare\n\n Aron Doyle : trompette\n\n Serge  Dionne  : basse \n\n Magella  Cormier  : batterie
URL:https://jazztremblant.com/evenement/michel-morissette-quartet/
LOCATION:Scène Jazz Lounge\, 885 Rue de St-Jovite\, Mont-Tremblant\, Québec\, J8E 3J8\, Canada
CATEGORIES:Série Jazz Lounge
ATTACH;FMTTYPE=image/jpeg:https://jazztremblant.com/wp-content/uploads/2025/06/Michel-Morissette_samedi-2-aout-15h-e1749474281530.jpg
END:VEVENT
BEGIN:VEVENT
DTSTART;TZID=America/Toronto:20250802T130000
DTEND;TZID=America/Toronto:20250802T220000
DTSTAMP:20260424T165354
CREATED:20250610T123058Z
LAST-MODIFIED:20250630T221743Z
UID:10000273-1754139600-1754172000@jazztremblant.com
SUMMARY:SÉRIE JAZZ CLUB
DESCRIPTION:13 h – Place de la Gare (vieux village) \nOLIVIER GRENIER BÉDARD – FRÉDÉRIC ALARIE \nOlivier Grenier-Bédard : guitare \nFrédéric Alarie : contrebasse \n  \n17 h 30 – Pizza & Cie \nJUTEAU – LACHAPELLE & INVITÉS \nAlain Juteau : guitare \nNormand Lachapelle : basse \n+ invités \n  \n18 h – Ital Delli  \nOLIVIER GRENIER BÉDARD – FRÉDÉRIC ALARIE \nOlivier Grenier-Bédard : guitare \nFrédéric Alarie : contrebasse \n  \n19 h – Hôtel Mont-Tremblant \nMICHEL MORISSETTE TRIO \nMichel Morissette : guitare \nYvon Plouffe : batterie \nSerge Dionne : contrebasse \n 
URL:https://jazztremblant.com/evenement/serie-jazz-club-4/
CATEGORIES:Série Jazz Club
ATTACH;FMTTYPE=image/jpeg:https://jazztremblant.com/wp-content/uploads/2023/04/serie-jazz-club-e1689299436113.jpg
END:VEVENT
BEGIN:VEVENT
DTSTART;TZID=America/Toronto:20250802T130000
DTEND;TZID=America/Toronto:20250802T141500
DTSTAMP:20260424T165354
CREATED:20250610T123010Z
LAST-MODIFIED:20250609T002204Z
UID:10000231-1754139600-1754144100@jazztremblant.com
SUMMARY:QUICKSILVER
DESCRIPTION:  \nFlorence Tousignant : trompette\n\nEsteban Montaña Martinez : guitare \n\nArian Aghajan : contrebasse\n\nFrieda Mestinsek : batterie\n\nYuanlong Jiang : saxophone ténor\n\nCharles Saumier-Watson : trombone
URL:https://jazztremblant.com/evenement/quicksilver/
LOCATION:Scène Jazz Lounge\, 885 Rue de St-Jovite\, Mont-Tremblant\, Québec\, J8E 3J8\, Canada
CATEGORIES:Série Relève Jazz
ATTACH;FMTTYPE=image/jpeg:https://jazztremblant.com/wp-content/uploads/2025/06/QuickSilver_samedi-2-aout-13h-e1748966353292.jpeg
END:VEVENT
BEGIN:VEVENT
DTSTART;TZID=America/Toronto:20250802T110000
DTEND;TZID=America/Toronto:20250802T120000
DTSTAMP:20260424T165354
CREATED:20250610T123009Z
LAST-MODIFIED:20250610T155859Z
UID:10000244-1754132400-1754136000@jazztremblant.com
SUMMARY:MARIANNE TRUDEL - Classe de maitre
DESCRIPTION:Discussion avec Mariane Trudel autour de son processus créatif et de son instrument\, le piano.
URL:https://jazztremblant.com/evenement/mariane-trudel/
LOCATION:Scène Jazz Lounge\, 885 Rue de St-Jovite\, Mont-Tremblant\, Québec\, J8E 3J8\, Canada
CATEGORIES:Classe de maître
ATTACH;FMTTYPE=image/jpeg:https://jazztremblant.com/wp-content/uploads/2025/06/Marianne-Trudel_samedi-2-aout_11h_credit-Michel_Pinault-e1749172467811.jpg
END:VEVENT
BEGIN:VEVENT
DTSTART;TZID=America/Toronto:20250801T210000
DTEND;TZID=America/Toronto:20250801T223000
DTSTAMP:20260424T165354
CREATED:20250610T123002Z
LAST-MODIFIED:20250610T155121Z
UID:10000263-1754082000-1754087400@jazztremblant.com
SUMMARY:CHARLES ELLISON QUINTET - Série Jazz sous les étoiles DESJARDINS
DESCRIPTION:Charles Ellison : trompette\n\n\n\n\n\nIra Coleman : contrebasse\n\nAl McLean : saxophone ténor\n\nWali Muhammad : batterie\n\nJosh Rager : piano
URL:https://jazztremblant.com/evenement/charles-ellison-quintet/
LOCATION:Grande Scène\, 885 rue de Saint-Jovite\, Mont-Tremblant\, Québec\, J8E 3J8\, Canada
CATEGORIES:Série Jazz sous les étoiles Desjardins
ATTACH;FMTTYPE=image/jpeg:https://jazztremblant.com/wp-content/uploads/2025/06/Charles-Ellison-Quintet-vendredi_2-aout-21h_-scaled-e1749042779504.jpg
END:VEVENT
BEGIN:VEVENT
DTSTART;TZID=America/Toronto:20250801T190000
DTEND;TZID=America/Toronto:20250801T201500
DTSTAMP:20260424T165354
CREATED:20250610T123021Z
LAST-MODIFIED:20250610T155209Z
UID:10000254-1754074800-1754079300@jazztremblant.com
SUMMARY:JEAN-MICHEL PILC TRIO - Série Jazz Extra PROMUTUEL ASSURANCE
DESCRIPTION:Jean-Michel Pilc : piano\n\nMason Jeffery-Off : contrebasse\n\nSamuel Joly : batterie
URL:https://jazztremblant.com/evenement/jean-michel-pilc-trio/
LOCATION:Grande Scène\, 885 rue de Saint-Jovite\, Mont-Tremblant\, Québec\, J8E 3J8\, Canada
CATEGORIES:Série Jazz Extra Promutuel Assurance
ATTACH;FMTTYPE=image/jpeg:https://jazztremblant.com/wp-content/uploads/2025/06/Jean-Michel-Pilc_vendredi-1er-aout-19h_credit-Conor-Nickerson_-2-scaled-e1749559268599.jpg
END:VEVENT
BEGIN:VEVENT
DTSTART;TZID=America/Toronto:20250801T173000
DTEND;TZID=America/Toronto:20250801T220000
DTSTAMP:20260424T165354
CREATED:20250610T123056Z
LAST-MODIFIED:20250630T221556Z
UID:10000271-1754069400-1754085600@jazztremblant.com
SUMMARY:SÉRIE JAZZ CLUB
DESCRIPTION:17 h 30 – Pizza & Cie \nJUTEAU – LACHAPELLE & INVITÉS \nAlain Juteau : guitare \nNormand Lachapelle : basse \n+ invités \n  \n18h – Ital Delli \nROBERT MÉNARD – SERGE DIONNE \nRobert Ménard : guitare \nSerge Dionne : contrebasse \n  \n19 h – Hôtel Mont-Tremblant \nCOCO SWING \nLou Boustani : guitare \nBernard Épaud : guitare \nJean-Sébastien Clément : contrebasse
URL:https://jazztremblant.com/evenement/serie-jazz-club-3/
CATEGORIES:Série Jazz Club
ATTACH;FMTTYPE=image/jpeg:https://jazztremblant.com/wp-content/uploads/2023/04/serie-jazz-club-e1689299436113.jpg
END:VEVENT
BEGIN:VEVENT
DTSTART;TZID=America/Toronto:20250801T150000
DTEND;TZID=America/Toronto:20250801T163000
DTSTAMP:20260424T165354
CREATED:20250610T123016Z
LAST-MODIFIED:20250608T200036Z
UID:10000279-1754060400-1754065800@jazztremblant.com
SUMMARY:LOU BOUSTANI MANOUCHE TRIO
DESCRIPTION:Lou Boustani : guitare \nBernard Épaud : guitare \nJean-Sébastien Clément : contrebasse
URL:https://jazztremblant.com/evenement/lou-boustani-manouche-trio-2/
LOCATION:Scène Jazz Lounge\, 885 Rue de St-Jovite\, Mont-Tremblant\, Québec\, J8E 3J8\, Canada
CATEGORIES:Série Jazz Lounge
ATTACH;FMTTYPE=image/jpeg:https://jazztremblant.com/wp-content/uploads/2025/06/Lou-Boustani-Manouche-Trio_vendredi-1er-aout-15h-e1749474420378.jpeg
END:VEVENT
BEGIN:VEVENT
DTSTART;TZID=America/Toronto:20250801T130000
DTEND;TZID=America/Toronto:20250801T141500
DTSTAMP:20260424T165354
CREATED:20250610T123017Z
LAST-MODIFIED:20250608T003121Z
UID:10000230-1754053200-1754057700@jazztremblant.com
SUMMARY:GABRIEL AUDET BOURGAULT QUINTET
DESCRIPTION:Gabriel Audet-Bourgault : guitare\n\nJeremy Sandfelder : saxophone ténor\n\nLudovic Rochon : piano\n\nAlex Leblanc : contrebasse\n\nBaptiste Lejeune : batterie
URL:https://jazztremblant.com/evenement/gabriel-audet-bourgault-quintet/
LOCATION:Scène Jazz Lounge\, 885 Rue de St-Jovite\, Mont-Tremblant\, Québec\, J8E 3J8\, Canada
CATEGORIES:Série Relève Jazz
ATTACH;FMTTYPE=image/jpeg:https://jazztremblant.com/wp-content/uploads/2025/06/Gabriel-Audet-Bourgault_vendredi-1er-aout-13h-e1748967185369.jpg
END:VEVENT
BEGIN:VEVENT
DTSTART;TZID=America/Toronto:20250801T110000
DTEND;TZID=America/Toronto:20250801T120000
DTSTAMP:20260424T165354
CREATED:20250610T123000Z
LAST-MODIFIED:20250610T155949Z
UID:10000242-1754046000-1754049600@jazztremblant.com
SUMMARY:JEAN-MICHEL PILC - Classe de maitre
DESCRIPTION:Discussion avec Jean-Michel Pilc autour de son processus créatif et de son instrument\, le piano.
URL:https://jazztremblant.com/evenement/charles-ellison/
LOCATION:Scène Jazz Lounge\, 885 Rue de St-Jovite\, Mont-Tremblant\, Québec\, J8E 3J8\, Canada
CATEGORIES:Classe de maître
ATTACH;FMTTYPE=image/jpeg:https://jazztremblant.com/wp-content/uploads/2025/06/Jean-Michel-Pilc_vendredi-1er-aout-11h_credit-Conor-Nickerson-scaled-e1749474479605.jpg
END:VEVENT
BEGIN:VEVENT
DTSTART;TZID=America/Toronto:20250731T210000
DTEND;TZID=America/Toronto:20250731T223000
DTSTAMP:20260424T165354
CREATED:20250610T123055Z
LAST-MODIFIED:20250610T155255Z
UID:10000261-1753995600-1754001000@jazztremblant.com
SUMMARY:ANDRÉ LEROUX QUARTET - Série Jazz sous les étoiles DESJARDINS
DESCRIPTION:André Leroux : saxophones \nFred Henke : piano\nFrédéric Alarie : contrebasse \nCamil Bélisle : batterie
URL:https://jazztremblant.com/evenement/andre-leroux-quartet/
LOCATION:Grande Scène\, 885 rue de Saint-Jovite\, Mont-Tremblant\, Québec\, J8E 3J8\, Canada
CATEGORIES:Série Jazz sous les étoiles Desjardins
ATTACH;FMTTYPE=image/jpeg:https://jazztremblant.com/wp-content/uploads/2025/06/Andre-Leroux-Quartet_jeudi-31-juil-21h--e1749042248353.jpg
END:VEVENT
BEGIN:VEVENT
DTSTART;TZID=America/Toronto:20250731T190000
DTEND;TZID=America/Toronto:20250731T201500
DTSTAMP:20260424T165354
CREATED:20250610T123051Z
LAST-MODIFIED:20250630T214329Z
UID:10000250-1753988400-1753992900@jazztremblant.com
SUMMARY:DAVID GAUTHIER TRIO - Série Jazz Extra PROMUTUEL ASSURANCE
DESCRIPTION:David Gauthier : guitare\n\nJérôme Chamberland : batterie\n\nPascal Andrus : basse
URL:https://jazztremblant.com/evenement/david-gauthier-trio/
LOCATION:Grande Scène\, 885 rue de Saint-Jovite\, Mont-Tremblant\, Québec\, J8E 3J8\, Canada
CATEGORIES:Série Jazz Extra Promutuel Assurance
ATTACH;FMTTYPE=image/jpeg:https://jazztremblant.com/wp-content/uploads/2025/06/David-Gauthier_-_-_.jpg
END:VEVENT
BEGIN:VEVENT
DTSTART;TZID=America/Toronto:20250731T173000
DTEND;TZID=America/Toronto:20250731T220000
DTSTAMP:20260424T165354
CREATED:20250610T123033Z
LAST-MODIFIED:20250703T165155Z
UID:10000269-1753983000-1753999200@jazztremblant.com
SUMMARY:SÉRIE JAZZ CLUB
DESCRIPTION:17 h 30 – Pizza & Cie \nJUTEAU – LACHAPELLE & INVITÉS \nAlain Juteau : guitare \nNormand Lachapelle : basse \n+ invités \n  \n19 h – Hôtel Mont-Tremblant \nOLIVIER GRENIER-BÉDARD TRIO \nOlivier Grenier-Bédard : guitare \nAlain Boyer : batterie \nAlex Leblanc : contrebasse
URL:https://jazztremblant.com/evenement/serie-jazz-club-2/
CATEGORIES:Série Jazz Club
ATTACH;FMTTYPE=image/jpeg:https://jazztremblant.com/wp-content/uploads/2023/04/serie-jazz-club-e1689299436113.jpg
END:VEVENT
BEGIN:VEVENT
DTSTART;TZID=America/Toronto:20250731T150000
DTEND;TZID=America/Toronto:20250731T163000
DTSTAMP:20260424T165354
CREATED:20250610T123050Z
LAST-MODIFIED:20250630T215617Z
UID:10000281-1753974000-1753979400@jazztremblant.com
SUMMARY:PARA SIEMPRE joue Chick Corea
DESCRIPTION:Yves Nadeau : guitare\n\nEnya Lemoine : voix\n\nMartin Bournival : clavier\n\nJean Dufour : batterie\n\nBernard Dionne : contrebasse
URL:https://jazztremblant.com/evenement/para-siempre-joue-chick-corea/
LOCATION:Scène Jazz Lounge\, 885 Rue de St-Jovite\, Mont-Tremblant\, Québec\, J8E 3J8\, Canada
CATEGORIES:Série Jazz Lounge
ATTACH;FMTTYPE=image/jpeg:https://jazztremblant.com/wp-content/uploads/2025/06/Para-Siempre_-_.jpg
END:VEVENT
BEGIN:VEVENT
DTSTART;TZID=America/Toronto:20250731T130000
DTEND;TZID=America/Toronto:20250731T141500
DTSTAMP:20260424T165354
CREATED:20250610T123025Z
LAST-MODIFIED:20250611T015522Z
UID:10000229-1753966800-1753971300@jazztremblant.com
SUMMARY:NICOLAS BOND QUARTET
DESCRIPTION:Nicolas Bond : contrebasse\n\nSimone Leblanc : saxophone\n\nAntoine Piché : guitare\n\nKulusé Souriant : batterie
URL:https://jazztremblant.com/evenement/nicolas-bond-quartet/
LOCATION:Scène Jazz Lounge\, 885 Rue de St-Jovite\, Mont-Tremblant\, Québec\, J8E 3J8\, Canada
CATEGORIES:Série Relève Jazz
ATTACH;FMTTYPE=image/jpeg:https://jazztremblant.com/wp-content/uploads/2025/06/Nicolas-Bond_-_.jpg
END:VEVENT
BEGIN:VEVENT
DTSTART;TZID=America/Toronto:20250731T110000
DTEND;TZID=America/Toronto:20250731T120000
DTSTAMP:20260424T165354
CREATED:20250610T123001Z
LAST-MODIFIED:20250610T161930Z
UID:10000240-1753959600-1753963200@jazztremblant.com
SUMMARY:ANDRÉ LEROUX - Classe de maitre
DESCRIPTION:Discussion avec André Leroux autour de son processus créatif et de son instrument\, le saxophone. \n\nÉvènements
URL:https://jazztremblant.com/evenement/andre-leroux/
LOCATION:Scène Jazz Lounge\, 885 Rue de St-Jovite\, Mont-Tremblant\, Québec\, J8E 3J8\, Canada
CATEGORIES:Classe de maître
ATTACH;FMTTYPE=image/jpeg:https://jazztremblant.com/wp-content/uploads/2025/06/Andre-Leroux_jeudi-31-juillet-11h_-.jpg
END:VEVENT
BEGIN:VEVENT
DTSTART;TZID=America/Toronto:20250730T210000
DTEND;TZID=America/Toronto:20250730T223000
DTSTAMP:20260424T165354
CREATED:20250610T123007Z
LAST-MODIFIED:20250610T155432Z
UID:10000259-1753909200-1753914600@jazztremblant.com
SUMMARY:BATHYSCAPHE - Concert d'ouverture - Série jazz sous les étoiles DESJARDINS
DESCRIPTION:Yvanhoe Jolicoeur : trompette\n\nYves Adam : saxophone ténor\n\nMarc Tremblay : trombone\n\nSerge Dionne : basse\n\nÉric St-Jean : piano\n\nDaniel Lemay : batterie
URL:https://jazztremblant.com/evenement/bathyscaphe/
LOCATION:Grande Scène\, 885 rue de Saint-Jovite\, Mont-Tremblant\, Québec\, J8E 3J8\, Canada
CATEGORIES:Série Jazz sous les étoiles Desjardins
ATTACH;FMTTYPE=image/jpeg:https://jazztremblant.com/wp-content/uploads/2025/06/Bathyscaphe_mercredi-30-juillet_21h-e1749346653737.jpg
END:VEVENT
BEGIN:VEVENT
DTSTART;TZID=America/Toronto:20250730T190000
DTEND;TZID=America/Toronto:20250730T201500
DTSTAMP:20260424T165354
CREATED:20250610T123058Z
LAST-MODIFIED:20250612T033109Z
UID:10000248-1753902000-1753906500@jazztremblant.com
SUMMARY:PROVOST - LACHAPELLE - BOYER  -  Série Jazz Extra PROMUTUEL ASSURANCE
DESCRIPTION:Sylvain Provost : guitare\n\nNormand Lachapelle : basse\n\nAlain Boyer : batterie
URL:https://jazztremblant.com/evenement/provost-lachapelle-boyer/
LOCATION:Grande Scène\, 885 rue de Saint-Jovite\, Mont-Tremblant\, Québec\, J8E 3J8\, Canada
CATEGORIES:Série Jazz Extra Promutuel Assurance
ATTACH;FMTTYPE=image/jpeg:https://jazztremblant.com/wp-content/uploads/2025/06/Provost-Lachapelle-Boyer-e1749172565650.jpg
END:VEVENT
BEGIN:VEVENT
DTSTART;TZID=America/Toronto:20250730T173000
DTEND;TZID=America/Toronto:20250730T210000
DTSTAMP:20260424T165354
CREATED:20250610T123007Z
LAST-MODIFIED:20250629T222210Z
UID:10000267-1753896600-1753909200@jazztremblant.com
SUMMARY:SÉRIE JAZZ CLUB
DESCRIPTION:17 h 30 – Pizza & Cie  \nJUTEAU – LACHAPELLE & INVITÉS \nAlain Juteau : guitare\nNormand Lachapelle : basse\net invités
URL:https://jazztremblant.com/evenement/serie-jazz-club/
CATEGORIES:Série Jazz Club
ATTACH;FMTTYPE=image/jpeg:https://jazztremblant.com/wp-content/uploads/2023/04/serie-jazz-club-e1689299436113.jpg
END:VEVENT
BEGIN:VEVENT
DTSTART;TZID=America/Toronto:20250730T150000
DTEND;TZID=America/Toronto:20250730T163000
DTSTAMP:20260424T165354
CREATED:20250610T123014Z
LAST-MODIFIED:20250609T131001Z
UID:10000280-1753887600-1753893000@jazztremblant.com
SUMMARY:CHARLOTTE DÉSILETS QUINTET
DESCRIPTION:Charlotte Désilets : voix\n\nMatys Colpron : batterie\n\nSam Ripat : contrebasse\n\nSam Fortin : piano\n\nMaude Fortier : saxophone
URL:https://jazztremblant.com/evenement/charlotte-desilets-quintet/
LOCATION:Scène Jazz Lounge\, 885 Rue de St-Jovite\, Mont-Tremblant\, Québec\, J8E 3J8\, Canada
CATEGORIES:Série Jazz Lounge
ATTACH;FMTTYPE=image/jpeg:https://jazztremblant.com/wp-content/uploads/2025/06/Charlotte-Desilets-Quintet_mercredi-30-juillet-15h-e1749474371100.jpg
END:VEVENT
BEGIN:VEVENT
DTSTART;TZID=America/Toronto:20250730T130000
DTEND;TZID=America/Toronto:20250730T141500
DTSTAMP:20260424T165354
CREATED:20250610T123020Z
LAST-MODIFIED:20250612T032305Z
UID:10000228-1753880400-1753884900@jazztremblant.com
SUMMARY:PARALLAXE
DESCRIPTION:Enya Lemoine : voix \n\nSamuel Thériault : guitare\n\nAntoine Gagné : basse\n\nKévyn-Mark Jomphe Lévesque : batterie.
URL:https://jazztremblant.com/evenement/parallaxe/
LOCATION:Scène Jazz Lounge\, 885 Rue de St-Jovite\, Mont-Tremblant\, Québec\, J8E 3J8\, Canada
CATEGORIES:Série Relève Jazz
ATTACH;FMTTYPE=image/jpeg:https://jazztremblant.com/wp-content/uploads/2025/06/Parallaxe_mercredi-30-juillet-13h_-scaled-e1749040120346.jpg
END:VEVENT
BEGIN:VEVENT
DTSTART;TZID=America/Toronto:20250730T110000
DTEND;TZID=America/Toronto:20250730T120000
DTSTAMP:20260424T165354
CREATED:20250610T123052Z
LAST-MODIFIED:20250610T160700Z
UID:10000238-1753873200-1753876800@jazztremblant.com
SUMMARY:ALAIN BOYER - Classe de maitre
DESCRIPTION:Discussion avec Alain Boyer autour de son processus créatif et de son instrument\, la batterie.
URL:https://jazztremblant.com/evenement/alain-boyer/
LOCATION:Scène Jazz Lounge\, 885 Rue de St-Jovite\, Mont-Tremblant\, Québec\, J8E 3J8\, Canada
CATEGORIES:Classe de maître
ATTACH;FMTTYPE=image/jpeg:https://jazztremblant.com/wp-content/uploads/2025/06/Alain-Boyer_mercredi-30-juillet-11h-2-e1749043572643.jpg
END:VEVENT
END:VCALENDAR